BEGIN:VCALENDAR
METHOD:PUBLISH
X-WR-TIMEZONE:America/Denver
PRODID:-//Hold My Ticket.//HMT Web App//EN
CALSCALE:GREGORIAN
METHOD:PUBLISH
X-WR-CALNAME:The Guild Cinema
X-WR-CALDESC:Upcoming events at The Guild Cinema
BEGIN:VTIMEZONE
TZID:America/Denver 
END:VTIMEZONE
BEGIN:VEVENT
SEQUENCE:2
TRANSP:OPAQUE
UID:8c9bfa1958c23a3e75b4b358942cb23d
DTSTART:20191206T223000
DTSTAMP:20191206T190156Z
SUMMARY:NME Movie Night presents Die Hard
DESCRIPTION:New Mexico Entertainment brings you a special holiday screening of Die Hard. New York City policeman John McClane (Bruce Willis) is visiting his estranged wife (Bonnie Bedelia) and two daughters on Christmas Eve. He joins her at a holiday party in the headquarters of the Japanese-owned business she works for. But the festivities are interrupted by a group of terrorists who take over the exclusive high-rise, and everyone in it. Very soon McClane realizes that there's no one to save the hostages -- but him.

NME Movie Night is a LIMITED seat event. MOVIEPASS NOT ACCEPTED.

PLEASE NOTE: TICKETS ARE NON-REFUNDABLE. TICKETS WILL NOT BE MAILED TO YOU. Please bring your payment receipt with your current state ID and check in at the Guild Box Office at 10:00 pm the night of the show. If you do not have your receipt, please make sure if you have your ID. We will have a list at the box office. In the likelihood we have a sold-out performance or event, tickets are subject to be released for resale to those on the waiting list if you have not checked five minutes before the show starts. Thank you for your punctuality!
CREATED:20191206T190156Z
URL;VALUE=URI:http://holdmyticket.com/event/323844 

DTEND:20191207T010000
END:VEVENT
END:VCALENDAR