BEGIN:VCALENDAR
METHOD:PUBLISH
X-WR-TIMEZONE:America/Denver
PRODID:-//Hold My Ticket.//HMT Web App//EN
CALSCALE:GREGORIAN
METHOD:PUBLISH
X-WR-CALNAME:The Guild Cinema
X-WR-CALDESC:Upcoming events at The Guild Cinema
BEGIN:VTIMEZONE
TZID:America/Denver 
END:VTIMEZONE
BEGIN:VEVENT
SEQUENCE:2
TRANSP:OPAQUE
UID:0a02ace9cc659ae759611184fffbfc61
DTSTART:20191208T130000
DTSTAMP:20191208T090231Z
SUMMARY:80's Sunday Matinee - Gremlins
DESCRIPTION:Join New Mexico Entertainment Magazine for our monthly 80's movie screening at The Guild Cinema. This month's movie is Gremlins, perfect for the holiday season. A gadget salesman is looking for a special gift for his son and finds one at a store in Chinatown. The shopkeeper is reluctant to sell him the 'mogwai' but sells it to him with the warning to never expose him to bright light, water, or to feed him after midnight. All of this happens and the result is a gang of gremlins that decide to tear up the town on Christmas Eve.
Presale ticket holder will be entered to win prizes including a custom poster created for this screening by artist Jeremy Montoya.

MOVIEPASS IS NOT ACCEPTED AT NEW MEXICO ENTERTAINMENT MOVIE NIGHTS.

TICKETS ARE NON-REFUNDABLE.
PLEASE NOTE: TICKETS WILL NOT BE MAILED TO YOU. Please bring your Hold My Ticket receipt with your current state ID and check in at the Guild Box Office 15 minutes before the show. If you do not have your receipt, please make sure if you have your ID. We will have a list at the box office. In the likelihood we have a sold-out performance or event, tickets are subject to be released for resale to those on the waiting list if you have not checked five minutes before the show starts. Thank you for your punctuality!
CREATED:20191208T090231Z
URL;VALUE=URI:http://holdmyticket.com/event/323845 

DTEND:20191208T153000
END:VEVENT
END:VCALENDAR