BEGIN:VCALENDAR
METHOD:PUBLISH
X-WR-TIMEZONE:America/Denver
PRODID:-//Hold My Ticket.//HMT Web App//EN
CALSCALE:GREGORIAN
METHOD:PUBLISH
X-WR-CALNAME:VSA North Fourth Art Center
X-WR-CALDESC:Upcoming events at VSA North Fourth Art Center
BEGIN:VTIMEZONE
TZID:America/Denver 
END:VTIMEZONE
BEGIN:VEVENT
SEQUENCE:2
TRANSP:OPAQUE
UID:d133099451542e680cfbbe50cf315716
DTSTART:20190303T140000
DTSTAMP:20190303T100108Z
SUMMARY:Travels With My Aunt
DESCRIPTION:
CREATED:20190303T100108Z
URL;VALUE=URI:http://holdmyticket.com/event/323889 

DTEND:20190303T164500
END:VEVENT
END:VCALENDAR