BEGIN:VCALENDAR
METHOD:PUBLISH
X-WR-TIMEZONE:America/Chicago
PRODID:-//Hold My Ticket.//HMT Web App//EN
CALSCALE:GREGORIAN
METHOD:PUBLISH
X-WR-CALNAME:Threadgill's World Headquarters
X-WR-CALDESC:Upcoming events at Threadgill's World Headquarters
BEGIN:VTIMEZONE
TZID:America/Chicago 
END:VTIMEZONE
BEGIN:VEVENT
SEQUENCE:2
TRANSP:OPAQUE
UID:c18cc6e317bcb1d72a79f7218c771da5
DTSTART:20181026T200000
DTSTAMP:20181026T150154Z
SUMMARY:Eric Tessmer
DESCRIPTION:Eric James Tessmer, actually named after guitar giants Eric Clapton and Jimi Hendrix, is an extraordinary guitarist, musician, singer and songwriter hailing from Austin, TX. Torino Black joins us to kick off the show. 
CREATED:20181026T150154Z
URL;VALUE=URI:http://holdmyticket.com/event/323957 

DTEND:20181026T220000
END:VEVENT
END:VCALENDAR