BEGIN:VCALENDAR
METHOD:PUBLISH
X-WR-TIMEZONE:America/Denver
PRODID:-//Hold My Ticket.//HMT Web App//EN
CALSCALE:GREGORIAN
METHOD:PUBLISH
X-WR-CALNAME:Taos Mesa Brewing Mothership
X-WR-CALDESC:Upcoming events at Taos Mesa Brewing Mothership
BEGIN:VTIMEZONE
TZID:America/Denver 
END:VTIMEZONE
BEGIN:VEVENT
SEQUENCE:2
TRANSP:OPAQUE
UID:f2988b5b65e2c7b9e86c4741474fd88d
DTSTART:20181207T200000
DTSTAMP:20181207T160159Z
SUMMARY:Tone Ranger with Woven Talon Dreamlines
DESCRIPTION:
CREATED:20181207T160159Z
URL;VALUE=URI:http://holdmyticket.com/event/324147 

DTEND:20181207T230000
END:VEVENT
END:VCALENDAR