BEGIN:VCALENDAR
METHOD:PUBLISH
X-WR-TIMEZONE:America/Chicago
PRODID:-//Hold My Ticket.//HMT Web App//EN
CALSCALE:GREGORIAN
METHOD:PUBLISH
X-WR-CALNAME:Threadgill's World Headquarters
X-WR-CALDESC:Upcoming events at Threadgill's World Headquarters
BEGIN:VTIMEZONE
TZID:America/Chicago 
END:VTIMEZONE
BEGIN:VEVENT
SEQUENCE:2
TRANSP:OPAQUE
UID:4c6a94d68cada68d8a08c3728e2b3776
DTSTART:20181020T200000
DTSTAMP:20181020T150129Z
SUMMARY:Tom Petty Birthday Show with The Damn Torpedoes
DESCRIPTION:Get ready for a night of rock 'n roll in honor of Tom Petty's birthday!
8pm - Departure ATX, a tribute to Journey 
9:30pm - The Damn Torpedoes, a tribute to Tom Petty and the Heartbreakers
CREATED:20181020T150129Z
URL;VALUE=URI:http://holdmyticket.com/event/324165 

DTEND:20181020T233000
END:VEVENT
END:VCALENDAR