BEGIN:VCALENDAR
METHOD:PUBLISH
X-WR-TIMEZONE:America/Chicago
PRODID:-//Hold My Ticket.//HMT Web App//EN
CALSCALE:GREGORIAN
METHOD:PUBLISH
X-WR-CALNAME:Threadgill's World Headquarters
X-WR-CALDESC:Upcoming events at Threadgill's World Headquarters
BEGIN:VTIMEZONE
TZID:America/Chicago 
END:VTIMEZONE
BEGIN:VEVENT
SEQUENCE:2
TRANSP:OPAQUE
UID:d5e665c1079fddf264083f9f1b07925a
DTSTART:20181028T183000
DTSTAMP:20181028T140112Z
SUMMARY:Williams Nite: A Tribute to the Music of Hank &amp; Lucinda Williams
DESCRIPTION:Featuring Slaid Cleaves, Monte Warden, Dave Scher, Jenny Reynolds, Graham Weber, Daisy O'Connor, Vanessa Lively, Libby Koch, The Belle Sounds and Emily Shirley! Proceeds benefit The SIMS Foundation. Hosted by Sun Radio's Jim Swift.
CREATED:20181028T140112Z
URL;VALUE=URI:http://holdmyticket.com/event/324166 

DTEND:20181028T210000
END:VEVENT
END:VCALENDAR