BEGIN:VCALENDAR
METHOD:PUBLISH
X-WR-TIMEZONE:America/Los_Angeles
PRODID:-//Hold My Ticket.//HMT Web App//EN
CALSCALE:GREGORIAN
METHOD:PUBLISH
X-WR-CALNAME:Humboldt Brews
X-WR-CALDESC:Upcoming events at Humboldt Brews
BEGIN:VTIMEZONE
TZID:America/Los_Angeles 
END:VTIMEZONE
BEGIN:VEVENT
SEQUENCE:2
TRANSP:OPAQUE
UID:35072aafe87661c5c9fce366eba801b3
DTSTART:20181015T190000
DTSTAMP:20181015T140203Z
SUMMARY:Lavender Rose Paint Night
DESCRIPTION:Join us for a "Spooky Birch Trees" Paint Night at Humbrews hosted by Lavender Rose! Mon Oct 15th at 7pm in Arcata, CA. One price includes your paint, step-by-step instructions, and use of all necessary supplies. Bring your appetite and thirst! Full restaurant and bar on site! Delicious local brews &amp; food!

You will leave with a beautiful completed masterpiece! This is super fun solo or with a group of friends &amp; family! Space is limited and will be filled in order of RSVP via private message to me.m/LavenderRosePaintNights 

In order to guarantee your seat, you MUST do 2 things: 
1. Send me a direct message containing your name/s and phone numbers of each painter to me.m/LavenderRosePaintNights to confirm 
2. Click "going" on this event page 

Price is $35 pp (cash only please)
RSVP is required to guarantee your seat. See you there!
DO NOT FORGET TO SEND A MESSAGE TO CONFIRM 

Join my group "Lavender Rose Paint Nights" to receive updates on upcoming classes and dates.
You can also "Subscribe" to my events on my new Facebook page.
Facebook.com/LavenderRosePaintNights 
Thanks for your interest!
707-599-0471

CREATED:20181015T140203Z
URL;VALUE=URI:http://holdmyticket.com/event/324650 

DTEND:20181015T220000
END:VEVENT
END:VCALENDAR