BEGIN:VCALENDAR
METHOD:PUBLISH
X-WR-TIMEZONE:America/Denver
PRODID:-//Hold My Ticket.//HMT Web App//EN
CALSCALE:GREGORIAN
METHOD:PUBLISH
X-WR-CALNAME:Taos Center for the Arts
X-WR-CALDESC:Upcoming events at Taos Center for the Arts
BEGIN:VTIMEZONE
TZID:America/Denver 
END:VTIMEZONE
BEGIN:VEVENT
SEQUENCE:2
TRANSP:OPAQUE
UID:7eb6f38bd6ecea2f067e1652228b4981
DTSTART:20190125T193000
DTSTAMP:20190125T160137Z
SUMMARY:Corey Harris &amp; Cedric Watson
DESCRIPTION:Explore the extraordinary living culture of the blues with two artists grounded in both tradition and contemporary experimentation. Corey Harris is a guitarist, vocalist, songwriter and bandleader who has carved out his own niche in blues. Spearheading the emerging generation of Creole musicians, Cedric Watson is a fiddler, vocalist, accordionist and songwriter of enormous talent and potential. 
CREATED:20190125T160137Z
URL;VALUE=URI:http://holdmyticket.com/event/324803 

DTEND:20190125T220000
END:VEVENT
END:VCALENDAR