BEGIN:VCALENDAR
METHOD:PUBLISH
X-WR-TIMEZONE:America/Los_Angeles
PRODID:-//Hold My Ticket.//HMT Web App//EN
CALSCALE:GREGORIAN
METHOD:PUBLISH
X-WR-CALNAME:Humboldt Brews
X-WR-CALDESC:Upcoming events at Humboldt Brews
BEGIN:VTIMEZONE
TZID:America/Los_Angeles 
END:VTIMEZONE
BEGIN:VEVENT
SEQUENCE:2
TRANSP:OPAQUE
UID:cb6c8589c1b9f4a65f63b7801b887611
DTSTART:20181117T210000
DTSTAMP:20181117T170104Z
SUMMARY:Spiritual
DESCRIPTION:“I’m  here  to  preach  and  to  practice  love  to  all  people.  Love  is  the  cure  for  everything.  Love  makes  you  healthy  and  I’m  convinced  that  one  day,  scientists  will  discover  that  it’s  the  basis  of  living,  y‘know?  Because  we  should  all  be  loving  people,  and  that’s  the  key  message  in  my  music.  It’s  all  about  love  and  progress.”

Spiritual’s  music  transports  us  to  another  time,  when  reggae  legends  like  Bob  Marley  first  took  the  rebel  sound  of  Jamaica  to  a  worldwide  audience.  Authenticity  can  be  heard  in  every  note,  but  then  it’s  coming  from  the  same  source  –  not  only  musically  and  culturally,  but  even  the  same  ghetto  communities  of  West  Kingston.  Spiritual  was  raised  in  Allman  Town,  and  sang  in  his  local  choir  before  embracing  Rastafari.  He  was  orphaned  at  an  early  age,  and  could  have  joined  the  throngs  of  young  hopefuls  at  any  number  of  studios  and  sound-systems  scattered  throughout  the  city.  Instead,  he  shunned  fame  and  helped  to  heal  the  broken  society  around  him  by  counseling  the  poor  and  needy.  Music  was  in  his  blood  and  he  continued  to  write  songs,  but  Rastafari  was  his true calling.

Right  from  the  start,  Spiritual’s  music  gave  us  hope  and  uplifted  the  spirits,  which  is  how  he  got  his  name.  Any  doubts  that  he  wasn’t  among  the  most  thrilling  roots  reggae  discoveries  of  recent  times  were  then  swept  aside  by  the  release  of  Stand  Up  To  Rasta.  Now  a  highlight  of  the  new  album  it’s  a  magnificent  song  of  awakening,  and  sung  by  an  artist  reborn.  “I’m  a  spiritual  person,  and  I  like  songs  with  spiritual  messages  in  them  –  songs  about  life  and  our  place  in  it,  and  that  make  you  think  about  what  you’re  doing,”  he  explains.  “I  write  songs  that  are  supposed  to  make  people  feel  good  about  one  another,  and  that  can  show  you  something  positive  about  life.”
CREATED:20181117T170104Z
URL;VALUE=URI:http://holdmyticket.com/event/324877 

DTEND:20181118T003000
END:VEVENT
END:VCALENDAR