BEGIN:VCALENDAR
METHOD:PUBLISH
X-WR-TIMEZONE:America/Denver
PRODID:-//Hold My Ticket.//HMT Web App//EN
CALSCALE:GREGORIAN
METHOD:PUBLISH
X-WR-CALNAME:The Oriental Theater
X-WR-CALDESC:Upcoming events at The Oriental Theater
BEGIN:VTIMEZONE
TZID:America/Denver 
END:VTIMEZONE
BEGIN:VEVENT
SEQUENCE:2
TRANSP:OPAQUE
UID:79ad740fece19fad6a7fc91df9277df3
DTSTART:20190115T200000
DTSTAMP:20190115T160103Z
SUMMARY:Ensiferum
DESCRIPTION:
CREATED:20190115T160103Z
URL;VALUE=URI:http://holdmyticket.com/event/324894 

DTEND:20190115T234500
END:VEVENT
END:VCALENDAR