BEGIN:VCALENDAR
METHOD:PUBLISH
X-WR-TIMEZONE:America/Chicago
PRODID:-//Hold My Ticket.//HMT Web App//EN
CALSCALE:GREGORIAN
METHOD:PUBLISH
X-WR-CALNAME:Threadgill's World Headquarters
X-WR-CALDESC:Upcoming events at Threadgill's World Headquarters
BEGIN:VTIMEZONE
TZID:America/Chicago 
END:VTIMEZONE
BEGIN:VEVENT
SEQUENCE:2
TRANSP:OPAQUE
UID:2c05963d9432347a47179998673f8522
DTSTART:20181112T183000
DTSTAMP:20181112T150117Z
SUMMARY:The House of Songs Songwriters Farewell to TWHQ
DESCRIPTION:Featuring 12 to 14 performers who have participated in The House of Songs’ program, this event will honor Threadgill’s World Headquarters (301 W Riverside Dr, Austin, TX 78704) before the venue closes its doors for the final time. Acts will perform a few songs of their own or songs that they have written as part of the songwriting collaborative. As Threadgill’s World Headquarters had played host to The House of Songs’ first events, the evening will be an immensely personal goodbye for The House of Songs and a tribute to the songwriting legacies that have graced the stage.

The evening will be hosted by The House of Songs Manager and Artist Coordinator Graham Weber and confirmed acts for the evening include Matt The Electrician, Ali Holder, Barbara Nesbitt, Daisy O'Connor, Graham Wilkinson, Lesly Reynaga and Sarah Sharp, among others to be announced. Doors for the event will open at 6 p.m. $10 cover
CREATED:20181112T150117Z
URL;VALUE=URI:http://holdmyticket.com/event/324952 

DTEND:20181112T210000
END:VEVENT
END:VCALENDAR