BEGIN:VCALENDAR
METHOD:PUBLISH
X-WR-TIMEZONE:America/Los_Angeles
PRODID:-//Hold My Ticket.//HMT Web App//EN
CALSCALE:GREGORIAN
METHOD:PUBLISH
X-WR-CALNAME:Humboldt Brews
X-WR-CALDESC:Upcoming events at Humboldt Brews
BEGIN:VTIMEZONE
TZID:America/Los_Angeles 
END:VTIMEZONE
BEGIN:VEVENT
SEQUENCE:2
TRANSP:OPAQUE
UID:bf0b4bbb4707fa6b853f76387ac57c46
DTSTART:20181108T213000
DTSTAMP:20181108T180128Z
SUMMARY:Lone Star Junction
DESCRIPTION:Lone Star Junction IS Humboldt County Outlaw Country Music. LSJ plays a mix of Outlaw Country Classics and our original songs. We love to remake the classics in our own style that is Lone Star Junction and Humboldt County, CA. Our unique sound combines the classic sounds of country music and a hot rod Nashville Telecaster...all with a modern take on Outlaw Country Music.  
CREATED:20181108T180128Z
URL;VALUE=URI:http://holdmyticket.com/event/325103 

DTEND:20181109T003000
END:VEVENT
END:VCALENDAR