BEGIN:VCALENDAR
METHOD:PUBLISH
X-WR-TIMEZONE:America/Los_Angeles
PRODID:-//Hold My Ticket.//HMT Web App//EN
CALSCALE:GREGORIAN
METHOD:PUBLISH
X-WR-CALNAME:Downbeat Lounge
X-WR-CALDESC:Upcoming events at Downbeat Lounge
BEGIN:VTIMEZONE
TZID:America/Los_Angeles 
END:VTIMEZONE
BEGIN:VEVENT
SEQUENCE:2
TRANSP:OPAQUE
UID:eb8c073089907f43a5bae44f1c5f0545
DTSTART:20181101T210000
DTSTAMP:20181101T160158Z
SUMMARY:7 Pairs of Iron Shoes at Downbeat
DESCRIPTION:Howlin' rockers 7 Pairs of Iron Shoes play Downbeat Lounge with special guests

November 1
9pm
21+
No cover

Downbeat Lounge
42 N. Hotel Street
Honolulu, HI 96817

7 Pairs of Iron Shoes is a howling folk rock/alt country band from Honolulu, Hawaii. They have been a part of the burgeoning D.I.Y and Americana/roots music scene there since 2012. Despite their personal inclinations and influences 7 Pairs remains more than the sum of its parts. The ending result pays homage to what most would call classic, and what some might consider time proven.
https://www.facebook.com/7PairsOfIronShoes/
https://7pairsofironshoes.bandcamp.com/
CREATED:20181101T160158Z
URL;VALUE=URI:http://holdmyticket.com/event/325117 

DTEND:20181102T010000
END:VEVENT
END:VCALENDAR