BEGIN:VCALENDAR
METHOD:PUBLISH
X-WR-TIMEZONE:America/Los_Angeles
PRODID:-//Hold My Ticket.//HMT Web App//EN
CALSCALE:GREGORIAN
METHOD:PUBLISH
X-WR-CALNAME:Downbeat Lounge
X-WR-CALDESC:Upcoming events at Downbeat Lounge
BEGIN:VTIMEZONE
TZID:America/Los_Angeles 
END:VTIMEZONE
BEGIN:VEVENT
SEQUENCE:2
TRANSP:OPAQUE
UID:56d524551160cf5d3343f947c9e13b41
DTSTART:20181103T210000
DTSTAMP:20181103T160130Z
SUMMARY:EmoPartyHNL at Downbeat Lounge
DESCRIPTION:Celebrate the glory days of Myspace and the sounds of Blink 182, Rites of Spring, New Found Glory and more at #emopartyhnl present by City and Chainsaw Productions. Playing all the hits from the 90's and early 2000's. 

November 3
9pm
21+
$5

Downbeat Lounge
42 N Hotel Street
Honolulu, HI 96817

#emonighthnl is a dance party and celebration of the sub-scene of alternative rock from the 90's and early 2000's.
https://www.facebook.com/cityandchainsaw/
CREATED:20181103T160130Z
URL;VALUE=URI:http://holdmyticket.com/event/325119 

DTEND:20181104T010000
END:VEVENT
END:VCALENDAR