BEGIN:VCALENDAR
METHOD:PUBLISH
X-WR-TIMEZONE:America/Chicago
PRODID:-//Hold My Ticket.//HMT Web App//EN
CALSCALE:GREGORIAN
METHOD:PUBLISH
X-WR-CALNAME:Threadgill's World Headquarters
X-WR-CALDESC:Upcoming events at Threadgill's World Headquarters
BEGIN:VTIMEZONE
TZID:America/Chicago 
END:VTIMEZONE
BEGIN:VEVENT
SEQUENCE:2
TRANSP:OPAQUE
UID:8483752baf85ce52a72faf76d3331b6c
DTSTART:20181123T200000
DTSTAMP:20181123T160157Z
SUMMARY:Sir Doug's Thanksgiving Jam
DESCRIPTION:Join us for an all-star tribute to SIR DOUG’S 1972 THANKSGIVING JAM!
Featuring members of Armadillo All Stars, Deadeye, Greezy Wheels, Silo Road, and special guests.

On Thanksgiving in 1972, Doug Sahm invited Jerry Garcia, Phil Lesh, Leon Russell and local musicians including Sweet Mary Hattersley to join him for a surprise jam at the Armadillo World Headquarters. Word of mouth spread quickly and over a thousand lucky fans were treated to a completely spontaneous set of unrehearsed classic blues, rock, country, and western swing. 

On Black Friday 2018, an all star cast of Austin performers will recreate this incredible set as an homage to the departed icons from the original show and as a fitting farewell to the legendary venue Threadgill's World Headquarters that will close at the end of the month.

Confirmed Performers:

Carolyn Wonderland
Warren Hood
Joe Faulhaber 
Joe Beckham 
Billy Broome
Sweet Mary
Cleve Hattersley
Scott Mason 
Geoff Queen 
Dan Walton
Ben Ballinger
Sophia Johnson
Lucas Hudgins
$17 advance, $20 at door. Proceeds benefit the SIMS Foundation. 
CREATED:20181123T160157Z
URL;VALUE=URI:http://holdmyticket.com/event/325120 

DTEND:20181123T223000
END:VEVENT
END:VCALENDAR