BEGIN:VCALENDAR
METHOD:PUBLISH
X-WR-TIMEZONE:America/Los_Angeles
PRODID:-//Hold My Ticket.//HMT Web App//EN
CALSCALE:GREGORIAN
METHOD:PUBLISH
X-WR-CALNAME:Downbeat Lounge
X-WR-CALDESC:Upcoming events at Downbeat Lounge
BEGIN:VTIMEZONE
TZID:America/Los_Angeles 
END:VTIMEZONE
BEGIN:VEVENT
SEQUENCE:2
TRANSP:OPAQUE
UID:5bda6da863bdf45970cf18d338b96f3d
DTSTART:20181108T210000
DTSTAMP:20181108T170130Z
SUMMARY:Psychedelic Thursday at Downbeat Lounge
DESCRIPTION:Green Priest presents Psychedelic Thursday at Downbeat Lounge. Featuring special guest performer The Dirty Rotten Blues Band.

November 8
9pm
21+
No Cover

Downbeat Lounge
42 N. Hotel Street
Honolulu, HI 96817

Green Priest is a psychedelic band from Honolulu, HI
https://www.instagram.com/green_priest777/
CREATED:20181108T170130Z
URL;VALUE=URI:http://holdmyticket.com/event/325249 

DTEND:20181109T010000
END:VEVENT
END:VCALENDAR