BEGIN:VCALENDAR
METHOD:PUBLISH
X-WR-TIMEZONE:America/Chicago
PRODID:-//Hold My Ticket.//HMT Web App//EN
CALSCALE:GREGORIAN
METHOD:PUBLISH
X-WR-CALNAME:Threadgill's 
X-WR-CALDESC:Upcoming events at Threadgill's 
BEGIN:VTIMEZONE
TZID:America/Chicago 
END:VTIMEZONE
BEGIN:VEVENT
SEQUENCE:2
TRANSP:OPAQUE
UID:22b1ad5c0aa1139398bc063266f77bfd
DTSTART:20181102T200000
DTSTAMP:20181102T150137Z
SUMMARY:Songwriters Series: Billy Crockett
DESCRIPTION:Billy Crockett is enjoying critical acclaim for his recent album release, RABBIT HOLE. 
Crockett is producer and creative director of Blue Rock Studio in the Texas hill country.
He has recorded twelve solo albums and toured internationally. He has been featured on the BMI
songwriter panel at SXSW, in the television series Troubadour, TX, and as guitar clinician for Yamaha.
Rolling Stone calls his warm sound "coffeehouse folk without pretension.” American Songwriter writes,
“He achieves that delicate fusion of refinement and soul..., delivering the essence of the thing with
crystalline purity." www.billycrockett.com
CREATED:20181102T150137Z
URL;VALUE=URI:http://holdmyticket.com/event/325254 

DTEND:20181102T220000
END:VEVENT
END:VCALENDAR