BEGIN:VCALENDAR
METHOD:PUBLISH
X-WR-TIMEZONE:America/Denver
PRODID:-//Hold My Ticket.//HMT Web App//EN
CALSCALE:GREGORIAN
METHOD:PUBLISH
X-WR-CALNAME:The Oriental Theater
X-WR-CALDESC:Upcoming events at The Oriental Theater
BEGIN:VTIMEZONE
TZID:America/Denver 
END:VTIMEZONE
BEGIN:VEVENT
SEQUENCE:2
TRANSP:OPAQUE
UID:36792665b2d9ed834097150c062fb46e
DTSTART:20181230T210000
DTSTAMP:20181230T170105Z
SUMMARY:Itchy-O New Years Trifecta
DESCRIPTION:
CREATED:20181230T170105Z
URL;VALUE=URI:http://holdmyticket.com/event/325269 

DTEND:20181230T234500
END:VEVENT
END:VCALENDAR