BEGIN:VCALENDAR
METHOD:PUBLISH
X-WR-TIMEZONE:America/Chicago
PRODID:-//Hold My Ticket.//HMT Web App//EN
CALSCALE:GREGORIAN
METHOD:PUBLISH
X-WR-CALNAME:Threadgill's 
X-WR-CALDESC:Upcoming events at Threadgill's 
BEGIN:VTIMEZONE
TZID:America/Chicago 
END:VTIMEZONE
BEGIN:VEVENT
SEQUENCE:2
TRANSP:OPAQUE
UID:f343079312b124a4ebc1f05146a7688c
DTSTART:20181109T200000
DTSTAMP:20181109T160138Z
SUMMARY:The Staehely Brothers
DESCRIPTION:Austin natives and formerly of the band Spirit, the Staehely Brothers' rich musical history dates back to the classic, 1970s era of rock-n-roll. 
CREATED:20181109T160138Z
URL;VALUE=URI:http://holdmyticket.com/event/325426 

DTEND:20181109T220000
END:VEVENT
END:VCALENDAR