BEGIN:VCALENDAR
METHOD:PUBLISH
X-WR-TIMEZONE:America/Chicago
PRODID:-//Hold My Ticket.//HMT Web App//EN
CALSCALE:GREGORIAN
METHOD:PUBLISH
X-WR-CALNAME:Threadgill's World Headquarters
X-WR-CALDESC:Upcoming events at Threadgill's World Headquarters
BEGIN:VTIMEZONE
TZID:America/Chicago 
END:VTIMEZONE
BEGIN:VEVENT
SEQUENCE:2
TRANSP:OPAQUE
UID:b77a8392eed523726dfb920f4c76d7f1
DTSTART:20181116T210000
DTSTAMP:20181116T170155Z
SUMMARY:Deadeye 
DESCRIPTION:Austin, Texas' Grateful Dead Tribute! Founded in 2010 by Joe Faulhaber and Shadd Scott. DeadEye celebrates the entire catalog and shares their energy and passion on a regular basis. Loyal to tradition while bringing a fresh, modern approach to the Dead's music. Doors at 8pm, show at 9pm.
CREATED:20181116T170155Z
URL;VALUE=URI:http://holdmyticket.com/event/325466 

DTEND:20181116T234500
END:VEVENT
END:VCALENDAR