BEGIN:VCALENDAR
METHOD:PUBLISH
X-WR-TIMEZONE:America/Chicago
PRODID:-//Hold My Ticket.//HMT Web App//EN
CALSCALE:GREGORIAN
METHOD:PUBLISH
X-WR-CALNAME:Threadgill's 
X-WR-CALDESC:Upcoming events at Threadgill's 
BEGIN:VTIMEZONE
TZID:America/Chicago 
END:VTIMEZONE
BEGIN:VEVENT
SEQUENCE:2
TRANSP:OPAQUE
UID:837ffcb4e43d385fb084ed5ec724c161
DTSTART:20181207T200000
DTSTAMP:20181207T160159Z
SUMMARY:Songwriters Series: Walt Wilkins
DESCRIPTION:Join us at Threadgill's North Lamar for our new Songwriters Series, featuring guest songwriters in an intimate listening room setting.
CREATED:20181207T160159Z
URL;VALUE=URI:http://holdmyticket.com/event/325467 

DTEND:20181207T220000
END:VEVENT
END:VCALENDAR