BEGIN:VCALENDAR
METHOD:PUBLISH
X-WR-TIMEZONE:America/Chicago
PRODID:-//Hold My Ticket.//HMT Web App//EN
CALSCALE:GREGORIAN
METHOD:PUBLISH
X-WR-CALNAME:Threadgill's 
X-WR-CALDESC:Upcoming events at Threadgill's 
BEGIN:VTIMEZONE
TZID:America/Chicago 
END:VTIMEZONE
BEGIN:VEVENT
SEQUENCE:2
TRANSP:OPAQUE
UID:b9fe3a5fe392d0b6d80ad1fc2268182d
DTSTART:20181208T200000
DTSTAMP:20181208T160119Z
SUMMARY:Songwriters Series: Stephen Doster
DESCRIPTION:We welcome the return of Austin's Stephen Doster as he performs songs from his multi-decade career including his latest record, New Black Suit' on Atticus Records. Over the course of his career, Stephen Doster has shared stages and studios with a long and eclectic line of musical luminaries including Joe Cocker, Nanci Griffith, Lyle Lovett, Gatemouth Brown, Little Feat, Mark O’Connor, Storyville, Ricky Nelson, Squeeze, Ani DiFranco and Ramblin’ Jack Elliot, among many others. He has produced over 60 albums for other artists, including projects for Carolyn Wonderland, Seth Walker, Uncle Lucius and Stanley Smith, among many others. 
CREATED:20181208T160119Z
URL;VALUE=URI:http://holdmyticket.com/event/325468 

DTEND:20181208T220000
END:VEVENT
END:VCALENDAR