BEGIN:VCALENDAR
METHOD:PUBLISH
X-WR-TIMEZONE:America/Los_Angeles
PRODID:-//Hold My Ticket.//HMT Web App//EN
CALSCALE:GREGORIAN
METHOD:PUBLISH
X-WR-CALNAME:Downbeat Lounge
X-WR-CALDESC:Upcoming events at Downbeat Lounge
BEGIN:VTIMEZONE
TZID:America/Los_Angeles 
END:VTIMEZONE
BEGIN:VEVENT
SEQUENCE:2
TRANSP:OPAQUE
UID:11aefa22300747c63826d280a9ae2105
DTSTART:20181109T210000
DTSTAMP:20181109T170134Z
SUMMARY:Tiki Bandits at Downbeat Lounge
DESCRIPTION:Arizona tiki punk band Tiki Bandits plays Downbeat Lounge with support from surf rockers Men In Grey Suits and garage rock artist Detroit Johnny

November 9
9pm
21+
$5

Downbeat Lounge
42 N Hotel Street
Honolulu, HI 96817

Hailing from the frothy surf of Mohave Beach (aka Kingman), Arizona, Tiki Bandits is a tiki punk band featuring Frank Voodoo, of Voodoo Glow Skulls fame,
https://www.facebook.com/tikibandits/
https://thetikibandits.bandcamp.com/

Men In Grey Suits is a surf rock band based in Honolulu. It was the concept of guitarist Chad Hamman and has been playing shows in Honolulu since January 2012. Although beginning as a cover band the intention is to record an album of original material during the coming months.
https://www.facebook.com/Men-In-Grey-Suits-207897529235582/
http://www.meningreysuits.com/

Detroit Johnny is a Honolulu-based garage rock band with Motor City roots
https://www.facebook.com/DetroitJohnnyHawaii/
https://www.soundcloud.com/detroit-johnny-hawaii
CREATED:20181109T170134Z
URL;VALUE=URI:http://holdmyticket.com/event/325598 

DTEND:20181110T010000
END:VEVENT
END:VCALENDAR