BEGIN:VCALENDAR
METHOD:PUBLISH
X-WR-TIMEZONE:America/Los_Angeles
PRODID:-//Hold My Ticket.//HMT Web App//EN
CALSCALE:GREGORIAN
METHOD:PUBLISH
X-WR-CALNAME:Humboldt Brews
X-WR-CALDESC:Upcoming events at Humboldt Brews
BEGIN:VTIMEZONE
TZID:America/Los_Angeles 
END:VTIMEZONE
BEGIN:VEVENT
SEQUENCE:2
TRANSP:OPAQUE
UID:3fb11e08ef9019d01e1dc8ced55186e9
DTSTART:20181115T210000
DTSTAMP:20181115T170123Z
SUMMARY:The Miracle Show
DESCRIPTION:The Miracle Show plays top shelf Grateful Dead, and has been performing songs deep into the Dead repertoire for more than a decade. Staying true to the philosophy of no two shows alike, this Humboldt County band jams with improvisational ears, reinterpreting the the songs interactively at each show. The Miracle Show raises the spirit of the dead with high energy performances where the music plays the band, and everybody in the house plays along.

CREATED:20181115T170123Z
URL;VALUE=URI:http://holdmyticket.com/event/325620 

DTEND:20181116T003000
END:VEVENT
END:VCALENDAR