BEGIN:VCALENDAR
METHOD:PUBLISH
X-WR-TIMEZONE:America/Los_Angeles
PRODID:-//Hold My Ticket.//HMT Web App//EN
CALSCALE:GREGORIAN
METHOD:PUBLISH
X-WR-CALNAME:Humboldt Brews
X-WR-CALDESC:Upcoming events at Humboldt Brews
BEGIN:VTIMEZONE
TZID:America/Los_Angeles 
END:VTIMEZONE
BEGIN:VEVENT
SEQUENCE:2
TRANSP:OPAQUE
UID:fffd810a9ff0d0cb9f00ee7ace2385a5
DTSTART:20181116T220000
DTSTAMP:20181116T180155Z
SUMMARY:Brews n' Bass
DESCRIPTION:This November we have a stellar lineup! Don't miss out seeing Treemeista, McG and breakout performance by Webster opening the night! Excited for so much talent on one stage. Get ready for a night of non-stop dancing, cultivated  beats and those positive vibes we strive for every month at Brews 'n Bass! Visuals by Johnny Dumps
CREATED:20181116T180155Z
URL;VALUE=URI:http://holdmyticket.com/event/325638 

DTEND:20181117T010000
END:VEVENT
END:VCALENDAR