BEGIN:VCALENDAR
METHOD:PUBLISH
X-WR-TIMEZONE:America/Chicago
PRODID:-//Hold My Ticket.//HMT Web App//EN
CALSCALE:GREGORIAN
METHOD:PUBLISH
X-WR-CALNAME:ONE-2-ONE BAR
X-WR-CALDESC:Upcoming events at ONE-2-ONE BAR
BEGIN:VTIMEZONE
TZID:America/Chicago 
END:VTIMEZONE
BEGIN:VEVENT
SEQUENCE:2
TRANSP:OPAQUE
UID:4f1377d84cc604af2479e0f7a7918353
DTSTART:20190306T210000
DTSTAMP:20190306T170103Z
SUMMARY:La Moña Loca Salsa Wednesdays 
DESCRIPTION:La Moña Loca Wednesday night salsa dance party!
Doors 8pm
Salsa Lessons at 8:30pm
La Moña Loca 9pm
http://www.lamonaloca.com
CREATED:20190306T170103Z
URL;VALUE=URI:http://holdmyticket.com/event/325698 

DTEND:20190307T020000
END:VEVENT
END:VCALENDAR