BEGIN:VCALENDAR
METHOD:PUBLISH
X-WR-TIMEZONE:America/Denver
PRODID:-//Hold My Ticket.//HMT Web App//EN
CALSCALE:GREGORIAN
METHOD:PUBLISH
X-WR-CALNAME:The Oriental Theater
X-WR-CALDESC:Upcoming events at The Oriental Theater
BEGIN:VTIMEZONE
TZID:America/Denver 
END:VTIMEZONE
BEGIN:VEVENT
SEQUENCE:2
TRANSP:OPAQUE
UID:c6657a62984c3979e4c1bd02a66ce168
DTSTART:20190226T200000
DTSTAMP:20190226T160119Z
SUMMARY:Peter Murphy  *****ONLY MEET &amp; GREET UPGRADES STILL AVAILABLE*****
DESCRIPTION:
CREATED:20190226T160119Z
URL;VALUE=URI:http://holdmyticket.com/event/325763 

DTEND:20190226T234500
END:VEVENT
END:VCALENDAR