BEGIN:VCALENDAR
METHOD:PUBLISH
X-WR-TIMEZONE:America/Los_Angeles
PRODID:-//Hold My Ticket.//HMT Web App//EN
CALSCALE:GREGORIAN
METHOD:PUBLISH
X-WR-CALNAME:Downbeat Lounge
X-WR-CALDESC:Upcoming events at Downbeat Lounge
BEGIN:VTIMEZONE
TZID:America/Los_Angeles 
END:VTIMEZONE
BEGIN:VEVENT
SEQUENCE:2
TRANSP:OPAQUE
UID:f9bb4bbd66015df74949ca72ebe540ba
DTSTART:20181110T210000
DTSTAMP:20181110T170123Z
SUMMARY:Sunstrokes Farewell Show at Downbeat Lounge
DESCRIPTION:Downbeat presents the final show by Sunstrokes, with a supporting performance by metal band Bone Canyon

November 10
9pm
21+
$5

Downbeat Lounge
42 N Hotel Street
Honolulu, HI 96817

Sunstrokes are a rock band from Honolulu, HI
https://www.facebook.com/thesunstrokes/

With big riffs driven by a whirlwind of hair and sweat, Honolulu’s Bone Canyon proves that living in paradise does not dull the intensity of their modern metal sound.
https://www.facebook.com/BoneCanyon/
CREATED:20181110T170123Z
URL;VALUE=URI:http://holdmyticket.com/event/326053 

DTEND:20181111T010000
END:VEVENT
END:VCALENDAR