BEGIN:VCALENDAR
METHOD:PUBLISH
X-WR-TIMEZONE:America/Los_Angeles
PRODID:-//Hold My Ticket.//HMT Web App//EN
CALSCALE:GREGORIAN
METHOD:PUBLISH
X-WR-CALNAME:Downbeat Lounge
X-WR-CALDESC:Upcoming events at Downbeat Lounge
BEGIN:VTIMEZONE
TZID:America/Los_Angeles 
END:VTIMEZONE
BEGIN:VEVENT
SEQUENCE:2
TRANSP:OPAQUE
UID:b32ac926c974ac3e43d347b9fb127456
DTSTART:20181113T190000
DTSTAMP:20181113T150132Z
SUMMARY:Karaoke at Downbeat Lounge
DESCRIPTION:Be a rock star with Karaoke at Downbeat Lounge. Get some liquid courage and use the Lounge's new karaoke machine. $1 a song.

November 13
7pm
21+
No Cover

Downbeat Lounge
42 N Hotel Street
Honolulu, HI 96817
CREATED:20181113T150132Z
URL;VALUE=URI:http://holdmyticket.com/event/326056 

DTEND:20181114T010000
END:VEVENT
END:VCALENDAR