BEGIN:VCALENDAR
METHOD:PUBLISH
X-WR-TIMEZONE:America/Chicago
PRODID:-//Hold My Ticket.//HMT Web App//EN
CALSCALE:GREGORIAN
METHOD:PUBLISH
X-WR-CALNAME:Threadgill's World Headquarters
X-WR-CALDESC:Upcoming events at Threadgill's World Headquarters
BEGIN:VTIMEZONE
TZID:America/Chicago 
END:VTIMEZONE
BEGIN:VEVENT
SEQUENCE:2
TRANSP:OPAQUE
UID:09e5e34b6001686a8109a5f53d0d5d86
DTSTART:20181110T200000
DTSTAMP:20181110T160123Z
SUMMARY:South Austin Jug Band
DESCRIPTION:Call it bluegrass or new grass  neo-Jug, acoustic country-folk, Texas roots unplugged, swinging Lone Star beatnik country or anything else that strikes you. The sprightly picking and fiddling and the quintet’s witty original songs and choice covers make their sound defy easy pigeonholing while passing through countless categories.
CREATED:20181110T160123Z
URL;VALUE=URI:http://holdmyticket.com/event/326116 

DTEND:20181110T223000
END:VEVENT
END:VCALENDAR