BEGIN:VCALENDAR
METHOD:PUBLISH
X-WR-TIMEZONE:America/Chicago
PRODID:-//Hold My Ticket.//HMT Web App//EN
CALSCALE:GREGORIAN
METHOD:PUBLISH
X-WR-CALNAME:Threadgill's 
X-WR-CALDESC:Upcoming events at Threadgill's 
BEGIN:VTIMEZONE
TZID:America/Chicago 
END:VTIMEZONE
BEGIN:VEVENT
SEQUENCE:2
TRANSP:OPAQUE
UID:015fa2eadbe5aea4da227a7bfff7a563
DTSTART:20181215T200000
DTSTAMP:20181215T160131Z
SUMMARY:Songwriters Series: Sarah Sharp and Mitch Watkins
DESCRIPTION:Sarah has recorded, performed, and composed in a variety of guises. She is a solo artist, a film and TV composer, and, most visibly, Sarah has been the stunning siren fronting the acclaimed combo the Jitterbug Vipers, a swinging act who specialize in conjuring playfully irreverent 30s and 40s jazz cool. Sarah is joined by the talented Mitch Watkins, don't miss this incredible show. 
CREATED:20181215T160131Z
URL;VALUE=URI:http://holdmyticket.com/event/327224 

DTEND:20181215T220000
END:VEVENT
END:VCALENDAR