BEGIN:VCALENDAR
METHOD:PUBLISH
X-WR-TIMEZONE:America/Los_Angeles
PRODID:-//Hold My Ticket.//HMT Web App//EN
CALSCALE:GREGORIAN
METHOD:PUBLISH
X-WR-CALNAME:Humboldt Brews
X-WR-CALDESC:Upcoming events at Humboldt Brews
BEGIN:VTIMEZONE
TZID:America/Los_Angeles 
END:VTIMEZONE
BEGIN:VEVENT
SEQUENCE:2
TRANSP:OPAQUE
UID:52bb3b0d5411d7865e62e105fb840d52
DTSTART:20181231T210000
DTSTAMP:20181231T170110Z
SUMMARY:New Years Eve Soul Party
DESCRIPTION:Our monthly Soul Party rings in the New Year spinning your favorite soul music.  DJ's Red, JayMorg, and T Rex will count down to 2019.
CREATED:20181231T170110Z
URL;VALUE=URI:http://holdmyticket.com/event/327344 

DTEND:20190101T013000
END:VEVENT
END:VCALENDAR