BEGIN:VCALENDAR
METHOD:PUBLISH
X-WR-TIMEZONE:America/Denver
PRODID:-//Hold My Ticket.//HMT Web App//EN
CALSCALE:GREGORIAN
METHOD:PUBLISH
X-WR-CALNAME:Santa Fe Farmers Market Pavilion
X-WR-CALDESC:Upcoming events at Santa Fe Farmers Market Pavilion
BEGIN:VTIMEZONE
TZID:America/Denver 
END:VTIMEZONE
BEGIN:VEVENT
SEQUENCE:2
TRANSP:OPAQUE
UID:c530c23c55d2939ecff5696a497ca0c9
DTSTART:20190111T170000
DTSTAMP:20190111T130155Z
SUMMARY:WinterBrew - 2019
DESCRIPTION:The 8th annual New Mexico Brewers Guild WinterBrew festival returns to the Santa Fe Farmers Market Pavilion on Friday, January 11. This year's festival will feature multiple brand new breweries from around the state, a slew of Santa Fe favorites, and many others. Admission includes sampling, a commemorative pint glass, and a pint fill of your choice. Our breweries will be featuring cold-weather favorites such as stouts, porters, barleywines, winter warmers, and barrel-aged seasonals along with many of their year-round offerings.

CREATED:20190111T130155Z
URL;VALUE=URI:http://holdmyticket.com/event/327394 

DTEND:20190111T213000
END:VEVENT
END:VCALENDAR