BEGIN:VCALENDAR
METHOD:PUBLISH
X-WR-TIMEZONE:America/Los_Angeles
PRODID:-//Hold My Ticket.//HMT Web App//EN
CALSCALE:GREGORIAN
METHOD:PUBLISH
X-WR-CALNAME:Humboldt Brews
X-WR-CALDESC:Upcoming events at Humboldt Brews
BEGIN:VTIMEZONE
TZID:America/Los_Angeles 
END:VTIMEZONE
BEGIN:VEVENT
SEQUENCE:2
TRANSP:OPAQUE
UID:128caaf62fe57361352ab381762b0840
DTSTART:20181221T213000
DTSTAMP:20181221T180121Z
SUMMARY:Brews n' Bass
DESCRIPTION:This month's Brews 'n Bass is bubbling hard. Suds bringing us that squishy sound, Esch and Norman opening up full force. Come party with us
CREATED:20181221T180121Z
URL;VALUE=URI:http://holdmyticket.com/event/327483 

DTEND:20181222T010000
END:VEVENT
END:VCALENDAR