BEGIN:VCALENDAR
METHOD:PUBLISH
X-WR-TIMEZONE:America/Denver
PRODID:-//Hold My Ticket.//HMT Web App//EN
CALSCALE:GREGORIAN
METHOD:PUBLISH
X-WR-CALNAME:Juan Tabo Library
X-WR-CALDESC:Upcoming events at Juan Tabo Library
BEGIN:VTIMEZONE
TZID:America/Denver 
END:VTIMEZONE
BEGIN:VEVENT
SEQUENCE:2
TRANSP:OPAQUE
UID:08a2e3fe5a7fd0540c152d397e7be422
DTSTART:20190517T120000
DTSTAMP:20190517T070143Z
SUMMARY:Nels Andrews
DESCRIPTION:Nels Andrews is a literary songwriter, a journeyman in the craft of melody who is here to tell you a story. 
CREATED:20190517T070143Z
URL;VALUE=URI:http://holdmyticket.com/event/327550 

DTEND:20190517T130000
END:VEVENT
END:VCALENDAR