BEGIN:VCALENDAR
METHOD:PUBLISH
X-WR-TIMEZONE:America/Chicago
PRODID:-//Hold My Ticket.//HMT Web App//EN
CALSCALE:GREGORIAN
METHOD:PUBLISH
X-WR-CALNAME:Threadgill's World Headquarters
X-WR-CALDESC:Upcoming events at Threadgill's World Headquarters
BEGIN:VTIMEZONE
TZID:America/Chicago 
END:VTIMEZONE
BEGIN:VEVENT
SEQUENCE:2
TRANSP:OPAQUE
UID:b7b50bba134e8a4a62728c1a82274159
DTSTART:20181201T193000
DTSTAMP:20181201T160118Z
SUMMARY:Shinyribs *SOLD OUT*
DESCRIPTION:Once you've seen Shinyribs' Kevin Russell on stage and heard his band's music, it's hard to forget. As Austin royalty, Shinyribs was recently named Best Austin Band in 2017, while "I Got Your Medicine" was tapped as Album of the Year at the Austin Music Awards. Celebrate the last weekend at Threadgill's World Headquarters with Shinyribs! $20 advance, $25 day of show.
CREATED:20181201T160118Z
URL;VALUE=URI:http://holdmyticket.com/event/327663 

DTEND:20181201T220000
END:VEVENT
END:VCALENDAR