BEGIN:VCALENDAR
METHOD:PUBLISH
X-WR-TIMEZONE:America/Chicago
PRODID:-//Hold My Ticket.//HMT Web App//EN
CALSCALE:GREGORIAN
METHOD:PUBLISH
X-WR-CALNAME:Threadgill's World Headquarters
X-WR-CALDESC:Upcoming events at Threadgill's World Headquarters
BEGIN:VTIMEZONE
TZID:America/Chicago 
END:VTIMEZONE
BEGIN:VEVENT
SEQUENCE:2
TRANSP:OPAQUE
UID:cfd33eef3e95004eabf035dcc7b7d8a4
DTSTART:20181208T100000
DTSTAMP:20181208T060157Z
SUMMARY:Threadgill's World Headquarters Auction
DESCRIPTION:Threadgill's World Headquarters Auction Saturday December 8th will feature Eddie Wilson's collection of Armadillo World Headquarters posters, art, Austin music memorabilia, &amp; antique neon beer signs, that cover the walls of Threadgill's restaurant. Plus some AWHQ concert posters &amp; memorabilia from Eddie Wilson's private collection that have never been offered for sale. AWHQ concert posters from Willie Nelson, Waylon, Jennings, Doug Sahm, many more.  Original paintings by Jim Franklin, Sam Yates, Danny Garrett, Guy Juke, &amp; the late Michael Priest. Rare Willie Nelson 4th of July Posters.  A huge collection of Armadillo World Headquarters posters, original Burton Wilson AWHQ photographs, original Lone Star Beer paintings, Texas beer signs, Austin Texas signs, Kenneth Threadgill &amp; Janis Joplin posters &amp; original photographs, historic Austin items &amp; much more. Threadgills World Headquarters will close it doors on December 2nd. Threadgills Old No. 1 is still open just up North Lamar. Please make plans to join us for this historic auction event. Auctioneer Robb Burley TX#15184 15% BP. Auction Preview Friday December 7th Noon -6:00 PM.  Saturday December 8th 8:00AM-10AM auction start. For more details, please go to Burleyauction.com
CREATED:20181208T060157Z
URL;VALUE=URI:http://holdmyticket.com/event/327749 

DTEND:20181208T150000
END:VEVENT
END:VCALENDAR