BEGIN:VCALENDAR
METHOD:PUBLISH
X-WR-TIMEZONE:America/Chicago
PRODID:-//Hold My Ticket.//HMT Web App//EN
CALSCALE:GREGORIAN
METHOD:PUBLISH
X-WR-CALNAME:Threadgill's World Headquarters
X-WR-CALDESC:Upcoming events at Threadgill's World Headquarters
BEGIN:VTIMEZONE
TZID:America/Chicago 
END:VTIMEZONE
BEGIN:VEVENT
SEQUENCE:2
TRANSP:OPAQUE
UID:be06758855fd993df67ce4f9b1d90e9a
DTSTART:20181201T120000
DTSTAMP:20181201T080143Z
SUMMARY:Threadgill's Last Rodeo
DESCRIPTION:Join us as we celebrate the final weekend at Threadgill's World Headquarters! Daytime performances by Fastball, Cotton Mather, Van Wilks, Monte Warden, Sarah Sharp, Guy Forsyth, Jackie Venson, and Michael Fracasso. We'll pay tribute to Armadillo World Headquarters and Threadgill's at Riverside, and show proceeds will be given to the TWHQ staff to help them in their transition. 

Stay late for the Shinyribs show at 7:30pm (requires separate ticket), and don't forget, the original Threadgill's Old No. 1 will remain open - not that far just up Lamar. 
CREATED:20181201T080143Z
URL;VALUE=URI:http://holdmyticket.com/event/327819 

DTEND:20181201T183000
END:VEVENT
END:VCALENDAR