BEGIN:VCALENDAR
METHOD:PUBLISH
X-WR-TIMEZONE:America/Los_Angeles
PRODID:-//Hold My Ticket.//HMT Web App//EN
CALSCALE:GREGORIAN
METHOD:PUBLISH
X-WR-CALNAME:Humboldt Brews
X-WR-CALDESC:Upcoming events at Humboldt Brews
BEGIN:VTIMEZONE
TZID:America/Los_Angeles 
END:VTIMEZONE
BEGIN:VEVENT
SEQUENCE:2
TRANSP:OPAQUE
UID:f6cd1a7e4903e145a0d68d9e5b38385c
DTSTART:20181215T190000
DTSTAMP:20181215T150130Z
SUMMARY:AAI music showcase
DESCRIPTION:Arcata Arts Institute presents its winter music showcase. 
CREATED:20181215T150130Z
URL;VALUE=URI:http://holdmyticket.com/event/328718 

DTEND:20181215T230000
END:VEVENT
END:VCALENDAR