BEGIN:VCALENDAR
METHOD:PUBLISH
X-WR-TIMEZONE:America/Denver
PRODID:-//Hold My Ticket.//HMT Web App//EN
CALSCALE:GREGORIAN
METHOD:PUBLISH
X-WR-CALNAME:Outpost Performance Space
X-WR-CALDESC:Upcoming events at Outpost Performance Space
BEGIN:VTIMEZONE
TZID:America/Denver 
END:VTIMEZONE
BEGIN:VEVENT
SEQUENCE:2
TRANSP:OPAQUE
UID:b1684e9a8d6023bbbd5498f5564f7442
DTSTART:20190301T193000
DTSTAMP:20190301T160141Z
SUMMARY:Makana
DESCRIPTION:Described as "dazzling" by the New York Times, Makana is an internationally acclaimed guitarist, singer, composer and activist who is widely known for lending his musical talent for social change. He has been a TEDx talk presenter, and his guitar playing has been featured on three Grammy-nominated albums, including the soundtrack of the Academy-Award winning film "The Descendants".
CREATED:20190301T160141Z
URL;VALUE=URI:http://holdmyticket.com/event/329148 

DTEND:20190301T220000
END:VEVENT
END:VCALENDAR