BEGIN:VCALENDAR
METHOD:PUBLISH
X-WR-TIMEZONE:America/Denver
PRODID:-//Hold My Ticket.//HMT Web App//EN
CALSCALE:GREGORIAN
METHOD:PUBLISH
X-WR-CALNAME:Meow Wolf
X-WR-CALDESC:Upcoming events at Meow Wolf
BEGIN:VTIMEZONE
TZID:America/Denver 
END:VTIMEZONE
BEGIN:VEVENT
SEQUENCE:2
TRANSP:OPAQUE
UID:7147d844bfdffb815418861d792207ef
DTSTART:20190301T200000
DTSTAMP:20190301T160141Z
SUMMARY:La Dame Blanche
DESCRIPTION:With her explosive mix of hip-hop, cumbia, dancehall and reggae, the Cuban singer, flautist and percussionist Yaite Ramos Rodriguez, a.k.a. La Dame Blanche, delivers a powerful and compelling sound which summons the spirits.
CREATED:20190301T160141Z
URL;VALUE=URI:http://holdmyticket.com/event/329209 

DTEND:20190301T220000
END:VEVENT
END:VCALENDAR