BEGIN:VCALENDAR
METHOD:PUBLISH
X-WR-TIMEZONE:America/Los_Angeles
PRODID:-//Hold My Ticket.//HMT Web App//EN
CALSCALE:GREGORIAN
METHOD:PUBLISH
X-WR-CALNAME:Downbeat Lounge
X-WR-CALDESC:Upcoming events at Downbeat Lounge
BEGIN:VTIMEZONE
TZID:America/Los_Angeles 
END:VTIMEZONE
BEGIN:VEVENT
SEQUENCE:2
TRANSP:OPAQUE
UID:38fca7d915b6b96430ec3692e8d32c05
DTSTART:20190104T210000
DTSTAMP:20190104T170133Z
SUMMARY:First Friday At Downbeat Lounge - Foundation Meets Dancehall
DESCRIPTION:Pressure Down Sounds and Rudies Hi-Fi spin strictly-vinyl all-night reggae grooves for First Friday at Downbeat Lounge. Vintage wax mixes of dancehall, ska, rocksteady and more by selectors Zion Coptic Sounds and Irie-Sistable. 

Special guests - Pacific Sounds Outernational, Zacharaijah and Bonafide Sound

First Friday
January 4
9pm
21+
No Cover

Downbeat Lounge
42 N Hotel Street
Honolulu, HI 96817

Sleepless PDS and Rudies Hi Hi are the heads of Reggae Revive which features classic Jamaican rocksteady, skinhead reggae, and sprinklings of blue beat ska. Spinning strictly vinyl all night long, Pressure Down Sounds and Rudies hi-fi will select songs to bless your ears and ring in the era of the Jamaican sound system days. Reggae Revive is a free show that will repeat the fourth Saturday of each month, for a monthly intake of rare old-school reggae discovery.
https://www.facebook.com/Rudies-Hi-Fi-308774807336/
https://www.facebook.com/PressureDownSoundsHi/
CREATED:20190104T170133Z
URL;VALUE=URI:http://holdmyticket.com/event/329392 

DTEND:20190105T010000
END:VEVENT
END:VCALENDAR