BEGIN:VCALENDAR
METHOD:PUBLISH
X-WR-TIMEZONE:America/Los_Angeles
PRODID:-//Hold My Ticket.//HMT Web App//EN
CALSCALE:GREGORIAN
METHOD:PUBLISH
X-WR-CALNAME:Humboldt Brews
X-WR-CALDESC:Upcoming events at Humboldt Brews
BEGIN:VTIMEZONE
TZID:America/Los_Angeles 
END:VTIMEZONE
BEGIN:VEVENT
SEQUENCE:2
TRANSP:OPAQUE
UID:51e6ce1dc5863e877753c0ce881ae5ca
DTSTART:20181228T163000
DTSTAMP:20181228T130104Z
SUMMARY:PHISH - Live Webcast from Madison Square Garden
DESCRIPTION:Phish live webcast from Madison Square Garden in New York on the Big screen with Big sound.
CREATED:20181228T130104Z
URL;VALUE=URI:http://holdmyticket.com/event/329644 

DTEND:20181228T210000
END:VEVENT
END:VCALENDAR