BEGIN:VCALENDAR
METHOD:PUBLISH
X-WR-TIMEZONE:America/Los_Angeles
PRODID:-//Hold My Ticket.//HMT Web App//EN
CALSCALE:GREGORIAN
METHOD:PUBLISH
X-WR-CALNAME:Humboldt Brews
X-WR-CALDESC:Upcoming events at Humboldt Brews
BEGIN:VTIMEZONE
TZID:America/Los_Angeles 
END:VTIMEZONE
BEGIN:VEVENT
SEQUENCE:2
TRANSP:OPAQUE
UID:de59e6187979c34ca094f1a5d665246e
DTSTART:20181229T163000
DTSTAMP:20181229T130149Z
SUMMARY:PHISH - Live Webcast from Madison Square Garden
DESCRIPTION:Phish Live webcast from Madison Square Garden in New York on the Big screen with Big sound.
CREATED:20181229T130149Z
URL;VALUE=URI:http://holdmyticket.com/event/329645 

DTEND:20181229T210000
END:VEVENT
END:VCALENDAR