BEGIN:VCALENDAR
METHOD:PUBLISH
X-WR-TIMEZONE:America/Los_Angeles
PRODID:-//Hold My Ticket.//HMT Web App//EN
CALSCALE:GREGORIAN
METHOD:PUBLISH
X-WR-CALNAME:Humboldt Brews
X-WR-CALDESC:Upcoming events at Humboldt Brews
BEGIN:VTIMEZONE
TZID:America/Los_Angeles 
END:VTIMEZONE
BEGIN:VEVENT
SEQUENCE:2
TRANSP:OPAQUE
UID:b324b06b009192fad407d0a8a97da458
DTSTART:20181230T163000
DTSTAMP:20181230T130147Z
SUMMARY:PHISH - Live Webcast from Madison Square Garden
DESCRIPTION:Phish Live webcast from Madison Square Garden in New York on the Big screen with Big sound.
CREATED:20181230T130147Z
URL;VALUE=URI:http://holdmyticket.com/event/329646 

DTEND:20181230T210000
END:VEVENT
END:VCALENDAR