BEGIN:VCALENDAR
METHOD:PUBLISH
X-WR-TIMEZONE:America/Los_Angeles
PRODID:-//Hold My Ticket.//HMT Web App//EN
CALSCALE:GREGORIAN
METHOD:PUBLISH
X-WR-CALNAME:Downbeat Lounge
X-WR-CALDESC:Upcoming events at Downbeat Lounge
BEGIN:VTIMEZONE
TZID:America/Los_Angeles 
END:VTIMEZONE
BEGIN:VEVENT
SEQUENCE:2
TRANSP:OPAQUE
UID:3ce472c8ce7d6f1b02a3f2035956b543
DTSTART:20190105T210000
DTSTAMP:20190105T170104Z
SUMMARY:Ohtoro at Downbeat Lounge
DESCRIPTION:DJ Jet Boy presents Zenbu Records producer Ohtoro - performing live at Downbeat Lounge with Zach Shimizu from Spooky Couch and Zachtoro. Guest appearances from Zenbu MC's and singers. Featuring a special performance by indie pop artist Joshua Rasheed

January 5
9pm
21+
$5

Downbeat Lounge
42 N Hotel Street
Honolulu, HI 96817

Ohtoro is a Honolulu-based producer and performer with hip-hop crew Super Groupers. He has shared the stage with the likes of DJ Swamp, Alt/Air and Metric. "We live by a beat in our heart and a melody on our mind. I make music for your life. "
https://www.facebook.com/ScottOhtoro/
https://ohtoro.bandcamp.com/
https://zenburecords.bandcamp.com/

Joshua Rasheed is a singer-songwriter from Honolulu, Hi 
https://www.instagram.com/joshuarasheed/

DJ JET BOY is a DJ and promoter working in Chinatown, Honolulu. He has been a part of the music scene since 2006 and played at venues from Detox to Downbeat. His range of music varies from ska to indie rock to Motown. He has opened for acts such as Steve Aoki, Black Lips, etc. Jet Boy is currently booking Kaleidoscope - Honolulu's longest-running indie rock night
https://www.facebook.com/djjetboy/
CREATED:20190105T170104Z
URL;VALUE=URI:http://holdmyticket.com/event/329794 

DTEND:20190106T010000
END:VEVENT
END:VCALENDAR