BEGIN:VCALENDAR
METHOD:PUBLISH
X-WR-TIMEZONE:America/Chicago
PRODID:-//Hold My Ticket.//HMT Web App//EN
CALSCALE:GREGORIAN
METHOD:PUBLISH
X-WR-CALNAME:Threadgill's 
X-WR-CALDESC:Upcoming events at Threadgill's 
BEGIN:VTIMEZONE
TZID:America/Chicago 
END:VTIMEZONE
BEGIN:VEVENT
SEQUENCE:2
TRANSP:OPAQUE
UID:025b63b7a8c8539ffb1b02ea8a031164
DTSTART:20190122T200000
DTSTAMP:20190122T160156Z
SUMMARY:Tuesdays with Toni
DESCRIPTION:Winner of the 2018 Austin Music Award Hall of Fame, Toni Price brings her vocal styling to Threadgill's every Tuesday in January, don't miss it!

CREATED:20190122T160156Z
URL;VALUE=URI:http://holdmyticket.com/event/329940 

DTEND:20190122T213000
END:VEVENT
END:VCALENDAR