BEGIN:VCALENDAR
METHOD:PUBLISH
X-WR-TIMEZONE:America/Chicago
PRODID:-//Hold My Ticket.//HMT Web App//EN
CALSCALE:GREGORIAN
METHOD:PUBLISH
X-WR-CALNAME:Threadgill's 
X-WR-CALDESC:Upcoming events at Threadgill's 
BEGIN:VTIMEZONE
TZID:America/Chicago 
END:VTIMEZONE
BEGIN:VEVENT
SEQUENCE:2
TRANSP:OPAQUE
UID:fe850e90ece33122b05596178771b20a
DTSTART:20190129T200000
DTSTAMP:20190129T160139Z
SUMMARY:Tuesdays with Toni
DESCRIPTION:Winner of the 2018 Austin Music Award Hall of Fame, Toni Price brings her vocal styling to Threadgill's every Tuesday in January, don't miss it!

CREATED:20190129T160139Z
URL;VALUE=URI:http://holdmyticket.com/event/329941 

DTEND:20190129T213000
END:VEVENT
END:VCALENDAR