BEGIN:VCALENDAR
METHOD:PUBLISH
X-WR-TIMEZONE:America/Chicago
PRODID:-//Hold My Ticket.//HMT Web App//EN
CALSCALE:GREGORIAN
METHOD:PUBLISH
X-WR-CALNAME:Threadgill's 
X-WR-CALDESC:Upcoming events at Threadgill's 
BEGIN:VTIMEZONE
TZID:America/Chicago 
END:VTIMEZONE
BEGIN:VEVENT
SEQUENCE:2
TRANSP:OPAQUE
UID:27eb7cb327a8176777a99603b3bcfa5d
DTSTART:20190111T200000
DTSTAMP:20190111T160137Z
SUMMARY:Songwriters Series: The Wagoneers Unplugged
DESCRIPTION:The Wagoneers came out of Austin during the 1980s with a sound that quickly attracted a following among traditionalists as well as the rockabilly crowd.  The Wagoneers have been inducted into the Texas Music Hall of Fame, and consist of: Multi-platinum songwriter Monte Warden on lead vocals and rhythm guitar, Brent Wilson on lead guitar and contributing backing vocals, Brad Fordham on bass, and drummer Mas Palermo. Don't miss this incredible night of music as they play an unplugged set at Threadgill's Old No. 1. 
CREATED:20190111T160137Z
URL;VALUE=URI:http://holdmyticket.com/event/329944 

DTEND:20190111T220000
END:VEVENT
END:VCALENDAR